BEGIN:VCALENDAR
VERSION:2.0
PRODID:-//hotplate.co.nz//vim and spit
CALSCALE:GREGORIAN
BEGIN:VTIMEZONE
TZID:Pacific/Auckland
TZURL:http://tzurl.org/zoneinfo-outlook/Pacific/Auckland
X-LIC-LOCATION:Pacific/Auckland
BEGIN:DAYLIGHT
TZOFFSETFROM:+1200
TZOFFSETTO:+1300
TZNAME:NZDT
DTSTART:19700927T020000
RRULE:FREQ=YEARLY;BYMONTH=9;BYDAY=-1SU
END:DAYLIGHT
BEGIN:STANDARD
TZOFFSETFROM:+1300
TZOFFSETTO:+1200
TZNAME:NZST
DTSTART:19700405T030000
END:STANDARD
END:VTIMEZONE
BEGIN:VEVENT
RRULE:FREQ=MONTHLY;BYSETPOS=2;BYDAY=TH;INTERVAL=1
DTSTAMP:20190411T005037Z
UID:df5da471ca33217e5c1989789566b4b0@ics.hotplate.co.nz
DTSTART;TZID=Pacific/Auckland:20190411T180000
DTEND;TZID=Pacific/Auckland:20190411T200000
SUMMARY:ISIG Dunedin meetup
END:VEVENT
END:VCALENDAR
