BEGIN:VCALENDAR
VERSION:2.0
PRODID:-//hotplate.co.nz//vim and spit
CALSCALE:GREGORIAN
BEGIN:VTIMEZONE
TZID:Pacific/Auckland
TZURL:http://tzurl.org/zoneinfo-outlook/Pacific/Auckland
X-LIC-LOCATION:Pacific/Auckland
BEGIN:DAYLIGHT
TZOFFSETFROM:+1200
TZOFFSETTO:+1300
TZNAME:NZDT
DTSTART:19700927T020000
RRULE:FREQ=YEARLY;BYMONTH=9;BYDAY=-1SU
END:DAYLIGHT
BEGIN:STANDARD
TZOFFSETFROM:+1300
TZOFFSETTO:+1200
TZNAME:NZST
DTSTART:19700405T030000
END:STANDARD
END:VTIMEZONE
BEGIN:VEVENT
RRULE:FREQ=MONTHLY;BYDAY=TU;BYSETPOS=-1
DTSTAMP:20190206T005037Z
UID:bbf27cbaf92125b872360a08fae1764b@ics.hotplate.co.nz
DTSTART;TZID=Pacific/Auckland:20190227T180000
DTEND;TZID=Pacific/Auckland:20190227T200000
SUMMARY:ISIG Christchurch meetup
END:VEVENT
END:VCALENDAR
